BEGIN:VCALENDAR
VERSION:2.0
PRODID:-//FEMS - ECPv5.14.0.4//NONSGML v1.0//EN
CALSCALE:GREGORIAN
METHOD:PUBLISH
X-WR-CALNAME:FEMS
X-ORIGINAL-URL:https://fems.asso.fr
X-WR-CALDESC:évènements pour FEMS
REFRESH-INTERVAL;VALUE=DURATION:PT1H
X-Robots-Tag:noindex
X-PUBLISHED-TTL:PT1H
BEGIN:VTIMEZONE
TZID:Europe/Paris
BEGIN:DAYLIGHT
TZOFFSETFROM:+0100
TZOFFSETTO:+0200
TZNAME:CEST
DTSTART:20210328T010000
END:DAYLIGHT
BEGIN:STANDARD
TZOFFSETFROM:+0200
TZOFFSETTO:+0100
TZNAME:CET
DTSTART:20211031T010000
END:STANDARD
END:VTIMEZONE
BEGIN:VEVENT
DTSTART;TZID=Europe/Paris:20210929T180000
DTEND;TZID=Europe/Paris:20211001T180000
DTSTAMP:20260421T183212
CREATED:20210330T210743Z
LAST-MODIFIED:20210514T145731Z
UID:691-1632938400-1633111200@fems.asso.fr
SUMMARY:Rencontres professionnelles 2021
DESCRIPTION:A BORDEAUX – AU MUSEE D’AQUITAINE\n\nthème : L’EXPOSITION\, UN ESPACE ENGAGÉ ? LA MUSÉOGRAPHIE SELON LES ÉCOMUSÉES ET MUSÉES DE SOCIÉTÉ 
URL:https://fems.asso.fr/evenements/jpo/
LOCATION:BORDEAUX
END:VEVENT
END:VCALENDAR